BEGIN:VCALENDAR
VERSION:2.0
PRODID:icalendar-ruby
CALSCALE:GREGORIAN
METHOD:PUBLISH
BEGIN:VEVENT
DTSTAMP:20260421T085244Z
UID:24-210468@nrcttown.com
DTSTART;VALUE=DATE:20260531
DTEND;VALUE=DATE:20260603
CLASS:PUBLIC
CREATED:20260407T124457
DESCRIPTION:6:00 - 8:00 pm\nSpin the spinner\, beat the clock\, skip ahead\
 , level up\, and play to win! You’ll need to bring your A-game for this 
 VBS. Twists &amp\; Turns is a fantastical celebration of games of all kind
 s. From classic tabletop games to video games and more\, kids will play th
 eir way through VBS while learning that Jesus guides them through all the 
 twists and turns of their lives. They’ll find that even when they mess u
 p it’s never “game over.”
LAST-MODIFIED:20260407T124457
LOCATION:NRC
SUMMARY:VBS
URL;VALUE=URI:https://nrcttown.com/events/vbs/2026-05-31
ATTACH;FILENAME=VBS_Title.png;FMTTYPE=image/png:https://dq5pwpg1q8ru0.cloud
 front.net/2026/04/07/17/44/57/41d50259-56c0-4fbc-a9f3-4679356b0257/VBS_Tit
 le.png
END:VEVENT
END:VCALENDAR
